BEGIN:VCALENDAR
VERSION:2.0
PRODID:-//Schützengesellschaft Mantal Harkirchen e.V. - ECPv6.2.5//NONSGML v1.0//EN
CALSCALE:GREGORIAN
METHOD:PUBLISH
X-WR-CALNAME:Schützengesellschaft Mantal Harkirchen e.V.
X-ORIGINAL-URL:https://sg-mantal-harkirchen.de
X-WR-CALDESC:Veranstaltungen für Schützengesellschaft Mantal Harkirchen e.V.
REFRESH-INTERVAL;VALUE=DURATION:PT1H
X-Robots-Tag:noindex
X-PUBLISHED-TTL:PT1H
BEGIN:VTIMEZONE
TZID:Europe/Berlin
BEGIN:DAYLIGHT
TZOFFSETFROM:+0100
TZOFFSETTO:+0200
TZNAME:CEST
DTSTART:20210328T010000
END:DAYLIGHT
BEGIN:STANDARD
TZOFFSETFROM:+0200
TZOFFSETTO:+0100
TZNAME:CET
DTSTART:20211031T010000
END:STANDARD
BEGIN:DAYLIGHT
TZOFFSETFROM:+0100
TZOFFSETTO:+0200
TZNAME:CEST
DTSTART:20220327T010000
END:DAYLIGHT
BEGIN:STANDARD
TZOFFSETFROM:+0200
TZOFFSETTO:+0100
TZNAME:CET
DTSTART:20221030T010000
END:STANDARD
BEGIN:DAYLIGHT
TZOFFSETFROM:+0100
TZOFFSETTO:+0200
TZNAME:CEST
DTSTART:20230326T010000
END:DAYLIGHT
BEGIN:STANDARD
TZOFFSETFROM:+0200
TZOFFSETTO:+0100
TZNAME:CET
DTSTART:20231029T010000
END:STANDARD
END:VTIMEZONE
BEGIN:VEVENT
DTSTART;TZID=Europe/Berlin:20230330T190000
DTEND;TZID=Europe/Berlin:20230330T230000
DTSTAMP:20260421T102632
CREATED:20221009T105429Z
LAST-MODIFIED:20221009T105429Z
UID:441-1680202800-1680217200@sg-mantal-harkirchen.de
SUMMARY:Haserlschießen und Endfeier
DESCRIPTION:
URL:https://sg-mantal-harkirchen.de/event/haserlschiessen-und-endfeier-2/
LOCATION:Mehrzwekhalle Percha\, Berger Straße 5\, Percha\, 82319\, Deutschland
CATEGORIES:Vereinsabend
END:VEVENT
BEGIN:VEVENT
DTSTART;TZID=Europe/Berlin:20230323T190000
DTEND;TZID=Europe/Berlin:20230323T230000
DTSTAMP:20260421T102632
CREATED:20221009T105428Z
LAST-MODIFIED:20221009T105428Z
UID:440-1679598000-1679612400@sg-mantal-harkirchen.de
SUMMARY:Schießabend
DESCRIPTION:(Monatskranzl Ringe)
URL:https://sg-mantal-harkirchen.de/event/schiessabend-42/
LOCATION:Mehrzwekhalle Percha\, Berger Straße 5\, Percha\, 82319\, Deutschland
CATEGORIES:Vereinsabend
END:VEVENT
BEGIN:VEVENT
DTSTART;TZID=Europe/Berlin:20230316T190000
DTEND;TZID=Europe/Berlin:20230316T230000
DTSTAMP:20260421T102632
CREATED:20221009T105414Z
LAST-MODIFIED:20221009T105414Z
UID:439-1678993200-1679007600@sg-mantal-harkirchen.de
SUMMARY:Schießabend
DESCRIPTION:
URL:https://sg-mantal-harkirchen.de/event/schiessabend-41/
LOCATION:Mehrzwekhalle Percha\, Berger Straße 5\, Percha\, 82319\, Deutschland
CATEGORIES:Vereinsabend
END:VEVENT
BEGIN:VEVENT
DTSTART;TZID=Europe/Berlin:20230309T190000
DTEND;TZID=Europe/Berlin:20230309T230000
DTSTAMP:20260421T102632
CREATED:20221009T105414Z
LAST-MODIFIED:20221009T105414Z
UID:438-1678388400-1678402800@sg-mantal-harkirchen.de
SUMMARY:Schießabend
DESCRIPTION:
URL:https://sg-mantal-harkirchen.de/event/schiessabend-40/
LOCATION:Mehrzwekhalle Percha\, Berger Straße 5\, Percha\, 82319\, Deutschland
CATEGORIES:Vereinsabend
END:VEVENT
BEGIN:VEVENT
DTSTART;TZID=Europe/Berlin:20230302T190000
DTEND;TZID=Europe/Berlin:20230302T230000
DTSTAMP:20260421T102632
CREATED:20221009T105414Z
LAST-MODIFIED:20221009T105414Z
UID:437-1677783600-1677798000@sg-mantal-harkirchen.de
SUMMARY:Schießabend
DESCRIPTION:
URL:https://sg-mantal-harkirchen.de/event/schiessabend-39/
LOCATION:Mehrzwekhalle Percha\, Berger Straße 5\, Percha\, 82319\, Deutschland
CATEGORIES:Vereinsabend
END:VEVENT
BEGIN:VEVENT
DTSTART;TZID=Europe/Berlin:20230223T190000
DTEND;TZID=Europe/Berlin:20230223T230000
DTSTAMP:20260421T102632
CREATED:20221009T105414Z
LAST-MODIFIED:20221009T105414Z
UID:436-1677178800-1677193200@sg-mantal-harkirchen.de
SUMMARY:Schießabend
DESCRIPTION:(Monatskranzl Teiler)
URL:https://sg-mantal-harkirchen.de/event/schiessabend-38/
LOCATION:Mehrzwekhalle Percha\, Berger Straße 5\, Percha\, 82319\, Deutschland
CATEGORIES:Vereinsabend
END:VEVENT
BEGIN:VEVENT
DTSTART;TZID=Europe/Berlin:20230216T190000
DTEND;TZID=Europe/Berlin:20230216T230000
DTSTAMP:20260421T102632
CREATED:20221009T105413Z
LAST-MODIFIED:20221009T105413Z
UID:435-1676574000-1676588400@sg-mantal-harkirchen.de
SUMMARY:Schießabend
DESCRIPTION:Gaudischießen
URL:https://sg-mantal-harkirchen.de/event/schiessabend-37/
LOCATION:Mehrzwekhalle Percha\, Berger Straße 5\, Percha\, 82319\, Deutschland
CATEGORIES:Vereinsabend
END:VEVENT
BEGIN:VEVENT
DTSTART;TZID=Europe/Berlin:20230209T190000
DTEND;TZID=Europe/Berlin:20230209T230000
DTSTAMP:20260421T102632
CREATED:20221009T105359Z
LAST-MODIFIED:20221009T105359Z
UID:434-1675969200-1675983600@sg-mantal-harkirchen.de
SUMMARY:Schießabend
DESCRIPTION:
URL:https://sg-mantal-harkirchen.de/event/schiessabend-36/
LOCATION:Mehrzwekhalle Percha\, Berger Straße 5\, Percha\, 82319\, Deutschland
CATEGORIES:Vereinsabend
END:VEVENT
BEGIN:VEVENT
DTSTART;TZID=Europe/Berlin:20230203T183000
DTEND;TZID=Europe/Berlin:20230203T230000
DTSTAMP:20260421T102632
CREATED:20221009T105359Z
LAST-MODIFIED:20221009T105359Z
UID:433-1675449000-1675465200@sg-mantal-harkirchen.de
SUMMARY:Schießabend
DESCRIPTION:Freundschaftschießen Percha 18:30 Uhr)
URL:https://sg-mantal-harkirchen.de/event/schiessabend-35/
LOCATION:Mehrzwekhalle Percha\, Berger Straße 5\, Percha\, 82319\, Deutschland
CATEGORIES:Vereinsabend
END:VEVENT
BEGIN:VEVENT
DTSTART;TZID=Europe/Berlin:20230126T190000
DTEND;TZID=Europe/Berlin:20230126T230000
DTSTAMP:20260421T102632
CREATED:20221009T105359Z
LAST-MODIFIED:20221009T105359Z
UID:432-1674759600-1674774000@sg-mantal-harkirchen.de
SUMMARY:Schießabend
DESCRIPTION:(Monatskranzl Ringe)
URL:https://sg-mantal-harkirchen.de/event/schiessabend-34/
LOCATION:Mehrzwekhalle Percha\, Berger Straße 5\, Percha\, 82319\, Deutschland
CATEGORIES:Vereinsabend
END:VEVENT
BEGIN:VEVENT
DTSTART;TZID=Europe/Berlin:20230119T190000
DTEND;TZID=Europe/Berlin:20230119T230000
DTSTAMP:20260421T102632
CREATED:20221009T105359Z
LAST-MODIFIED:20221009T105359Z
UID:431-1674154800-1674169200@sg-mantal-harkirchen.de
SUMMARY:Schießabend
DESCRIPTION:
URL:https://sg-mantal-harkirchen.de/event/schiessabend-33/
LOCATION:Mehrzwekhalle Percha\, Berger Straße 5\, Percha\, 82319\, Deutschland
CATEGORIES:Vereinsabend
END:VEVENT
BEGIN:VEVENT
DTSTART;TZID=Europe/Berlin:20230112T190000
DTEND;TZID=Europe/Berlin:20230112T230000
DTSTAMP:20260421T102632
CREATED:20221009T105344Z
LAST-MODIFIED:20221009T105344Z
UID:430-1673550000-1673564400@sg-mantal-harkirchen.de
SUMMARY:Königsschießen
DESCRIPTION:
URL:https://sg-mantal-harkirchen.de/event/koenigsschiessen-2/
LOCATION:Mehrzwekhalle Percha\, Berger Straße 5\, Percha\, 82319\, Deutschland
CATEGORIES:Vereinsabend
END:VEVENT
BEGIN:VEVENT
DTSTART;TZID=Europe/Berlin:20221215T190000
DTEND;TZID=Europe/Berlin:20221215T230000
DTSTAMP:20260421T102632
CREATED:20221009T105344Z
LAST-MODIFIED:20221009T105344Z
UID:429-1671130800-1671145200@sg-mantal-harkirchen.de
SUMMARY:Schießabend
DESCRIPTION:(Monatskranzl Teiler)
URL:https://sg-mantal-harkirchen.de/event/schiessabend-32/
LOCATION:Mehrzwekhalle Percha\, Berger Straße 5\, Percha\, 82319\, Deutschland
CATEGORIES:Vereinsabend
END:VEVENT
BEGIN:VEVENT
DTSTART;TZID=Europe/Berlin:20221208T190000
DTEND;TZID=Europe/Berlin:20221208T230000
DTSTAMP:20260421T102632
CREATED:20221009T105344Z
LAST-MODIFIED:20221009T105344Z
UID:428-1670526000-1670540400@sg-mantal-harkirchen.de
SUMMARY:Schießabend
DESCRIPTION:
URL:https://sg-mantal-harkirchen.de/event/schiessabend-31/
LOCATION:Mehrzwekhalle Percha\, Berger Straße 5\, Percha\, 82319\, Deutschland
CATEGORIES:Vereinsabend
END:VEVENT
BEGIN:VEVENT
DTSTART;TZID=Europe/Berlin:20221203T180000
DTEND;TZID=Europe/Berlin:20221203T230000
DTSTAMP:20260421T102632
CREATED:20221009T105344Z
LAST-MODIFIED:20221009T105344Z
UID:427-1670090400-1670108400@sg-mantal-harkirchen.de
SUMMARY:Weihnachstfeier
DESCRIPTION:
URL:https://sg-mantal-harkirchen.de/event/weihnachstfeier-2/
LOCATION:Brückenwirt Percha\, Berger Str. 7\, 82319\, Starnberg\, Deutschland
CATEGORIES:Festtag
END:VEVENT
BEGIN:VEVENT
DTSTART;TZID=Europe/Berlin:20221201T190000
DTEND;TZID=Europe/Berlin:20221201T230000
DTSTAMP:20260421T102632
CREATED:20221009T105343Z
LAST-MODIFIED:20221009T105343Z
UID:426-1669921200-1669935600@sg-mantal-harkirchen.de
SUMMARY:Schießabend
DESCRIPTION:
URL:https://sg-mantal-harkirchen.de/event/schiessabend-30/
LOCATION:Mehrzwekhalle Percha\, Berger Straße 5\, Percha\, 82319\, Deutschland
CATEGORIES:Vereinsabend
END:VEVENT
BEGIN:VEVENT
DTSTART;TZID=Europe/Berlin:20221124T190000
DTEND;TZID=Europe/Berlin:20221124T230000
DTSTAMP:20260421T102632
CREATED:20221009T105328Z
LAST-MODIFIED:20221009T105328Z
UID:425-1669316400-1669330800@sg-mantal-harkirchen.de
SUMMARY:Schießabend
DESCRIPTION:(Monatskranzl Ringe)
URL:https://sg-mantal-harkirchen.de/event/schiessabend-29/
LOCATION:Mehrzwekhalle Percha\, Berger Straße 5\, Percha\, 82319\, Deutschland
CATEGORIES:Vereinsabend
END:VEVENT
BEGIN:VEVENT
DTSTART;TZID=Europe/Berlin:20221119T100000
DTEND;TZID=Europe/Berlin:20221119T150000
DTSTAMP:20260421T102632
CREATED:20221009T105328Z
LAST-MODIFIED:20221009T105328Z
UID:424-1668852000-1668870000@sg-mantal-harkirchen.de
SUMMARY:Lüssbachpokal
DESCRIPTION:
URL:https://sg-mantal-harkirchen.de/event/luessbachpokal-2/
LOCATION:St. Sebastian Aufkirchen\, Marienstr. 11\, Berg\, 82335\, Deutschland
CATEGORIES:Preisschießen
END:VEVENT
BEGIN:VEVENT
DTSTART;TZID=Europe/Berlin:20221117T190000
DTEND;TZID=Europe/Berlin:20221117T230000
DTSTAMP:20260421T102632
CREATED:20221009T105328Z
LAST-MODIFIED:20221009T105328Z
UID:423-1668711600-1668726000@sg-mantal-harkirchen.de
SUMMARY:Schießabend
DESCRIPTION:
URL:https://sg-mantal-harkirchen.de/event/schiessabend-28/
LOCATION:Mehrzwekhalle Percha\, Berger Straße 5\, Percha\, 82319\, Deutschland
CATEGORIES:Vereinsabend
END:VEVENT
BEGIN:VEVENT
DTSTART;TZID=Europe/Berlin:20221113T090000
DTEND;TZID=Europe/Berlin:20221113T120000
DTSTAMP:20260421T102632
CREATED:20221009T105328Z
LAST-MODIFIED:20221009T105956Z
UID:422-1668330000-1668340800@sg-mantal-harkirchen.de
SUMMARY:Volkstrauertag
DESCRIPTION:
URL:https://sg-mantal-harkirchen.de/event/volkstrauertag-2/
LOCATION:St. Christophorus Percha\, Berger Str. 17\, Starnberg\, Bayern\, 82319\, Deutschland
CATEGORIES:Festtag
END:VEVENT
BEGIN:VEVENT
DTSTART;TZID=Europe/Berlin:20221110T190000
DTEND;TZID=Europe/Berlin:20221110T230000
DTSTAMP:20260421T102632
CREATED:20221009T105328Z
LAST-MODIFIED:20221009T105328Z
UID:421-1668106800-1668121200@sg-mantal-harkirchen.de
SUMMARY:Schießabend
DESCRIPTION:Ganserlschießen
URL:https://sg-mantal-harkirchen.de/event/schiessabend-27/
LOCATION:Mehrzwekhalle Percha\, Berger Straße 5\, Percha\, 82319\, Deutschland
CATEGORIES:Vereinsabend
END:VEVENT
BEGIN:VEVENT
DTSTART;TZID=Europe/Berlin:20221103T190000
DTEND;TZID=Europe/Berlin:20221103T230000
DTSTAMP:20260421T102632
CREATED:20221009T105324Z
LAST-MODIFIED:20221009T105324Z
UID:420-1667502000-1667516400@sg-mantal-harkirchen.de
SUMMARY:Schießabend
DESCRIPTION:Gedächtnispokal
URL:https://sg-mantal-harkirchen.de/event/schiessabend-26/
LOCATION:Mehrzwekhalle Percha\, Berger Straße 5\, Percha\, 82319\, Deutschland
CATEGORIES:Vereinsabend
END:VEVENT
BEGIN:VEVENT
DTSTART;TZID=Europe/Berlin:20221027T190000
DTEND;TZID=Europe/Berlin:20221027T230000
DTSTAMP:20260421T102632
CREATED:20221009T105324Z
LAST-MODIFIED:20221009T105324Z
UID:419-1666897200-1666911600@sg-mantal-harkirchen.de
SUMMARY:Schiessabend
DESCRIPTION:(Monatskranzl Teiler)
URL:https://sg-mantal-harkirchen.de/event/schiessabend-25/
LOCATION:Mehrzwekhalle Percha\, Berger Straße 5\, Percha\, 82319\, Deutschland
CATEGORIES:Vereinsabend
END:VEVENT
BEGIN:VEVENT
DTSTART;TZID=Europe/Berlin:20221020T203000
DTEND;TZID=Europe/Berlin:20221020T230000
DTSTAMP:20260421T102632
CREATED:20221009T105323Z
LAST-MODIFIED:20221009T105323Z
UID:416-1666297800-1666306800@sg-mantal-harkirchen.de
SUMMARY:Hauptversammlung
DESCRIPTION:
URL:https://sg-mantal-harkirchen.de/event/hauptversammlung-2/
LOCATION:Mehrzwekhalle Percha\, Berger Straße 5\, Percha\, 82319\, Deutschland
CATEGORIES:Vereinsabend
END:VEVENT
BEGIN:VEVENT
DTSTART;TZID=Europe/Berlin:20221020T190000
DTEND;TZID=Europe/Berlin:20221020T203000
DTSTAMP:20260421T102632
CREATED:20221009T105324Z
LAST-MODIFIED:20221009T105324Z
UID:418-1666292400-1666297800@sg-mantal-harkirchen.de
SUMMARY:Schiessabend
DESCRIPTION:
URL:https://sg-mantal-harkirchen.de/event/schiessabend-24/
LOCATION:Mehrzwekhalle Percha\, Berger Straße 5\, Percha\, 82319\, Deutschland
CATEGORIES:Vereinsabend
END:VEVENT
BEGIN:VEVENT
DTSTART;TZID=Europe/Berlin:20221013T190000
DTEND;TZID=Europe/Berlin:20221013T230000
DTSTAMP:20260421T102632
CREATED:20221009T105324Z
LAST-MODIFIED:20221009T105324Z
UID:417-1665687600-1665702000@sg-mantal-harkirchen.de
SUMMARY:Anfangsschiessen
DESCRIPTION:
URL:https://sg-mantal-harkirchen.de/event/anfangsschiessen-3/
LOCATION:Mehrzwekhalle Percha\, Berger Straße 5\, Percha\, 82319\, Deutschland
CATEGORIES:Vereinsabend
END:VEVENT
BEGIN:VEVENT
DTSTART;TZID=Europe/Berlin:20211028T190000
DTEND;TZID=Europe/Berlin:20211028T230000
DTSTAMP:20260421T102632
CREATED:20211011T093850Z
LAST-MODIFIED:20211011T093850Z
UID:398-1635447600-1635462000@sg-mantal-harkirchen.de
SUMMARY:Schießabend
DESCRIPTION:
URL:https://sg-mantal-harkirchen.de/event/schiessabend-23/
LOCATION:Mehrzwekhalle Percha\, Berger Straße 5\, Percha\, 82319\, Deutschland
CATEGORIES:Vereinsabend
END:VEVENT
BEGIN:VEVENT
DTSTART;TZID=Europe/Berlin:20211021T190000
DTEND;TZID=Europe/Berlin:20211021T230000
DTSTAMP:20260421T102632
CREATED:20211011T093804Z
LAST-MODIFIED:20211011T093804Z
UID:396-1634842800-1634857200@sg-mantal-harkirchen.de
SUMMARY:Schießabend
DESCRIPTION:
URL:https://sg-mantal-harkirchen.de/event/schiessabend-22/
LOCATION:Mehrzwekhalle Percha\, Berger Straße 5\, Percha\, 82319\, Deutschland
CATEGORIES:Vereinsabend
END:VEVENT
BEGIN:VEVENT
DTSTART;TZID=Europe/Berlin:20211014T190000
DTEND;TZID=Europe/Berlin:20211014T230000
DTSTAMP:20260421T102632
CREATED:20211010T175515Z
LAST-MODIFIED:20211011T094410Z
UID:394-1634238000-1634252400@sg-mantal-harkirchen.de
SUMMARY:Anfangsschießen
DESCRIPTION:
URL:https://sg-mantal-harkirchen.de/event/anfangsschiessen-2/
LOCATION:Mehrzwekhalle Percha\, Berger Straße 5\, Percha\, 82319\, Deutschland
CATEGORIES:Vereinsabend
END:VEVENT
BEGIN:VEVENT
DTSTART;TZID=Europe/Berlin:20211012T190000
DTEND;TZID=Europe/Berlin:20211012T220000
DTSTAMP:20260421T102632
CREATED:20211010T175425Z
LAST-MODIFIED:20211011T094451Z
UID:392-1634065200-1634076000@sg-mantal-harkirchen.de
SUMMARY:Jahres Hauptversammlung
DESCRIPTION:
URL:https://sg-mantal-harkirchen.de/event/jahreshauptversammlung/
LOCATION:Mehrzwekhalle Percha\, Berger Straße 5\, Percha\, 82319\, Deutschland
CATEGORIES:Vereinsabend
END:VEVENT
END:VCALENDAR